BEGIN:VCALENDAR
VERSION:2.0
PRODID:icalendar-ruby
CALSCALE:GREGORIAN
METHOD:PUBLISH
BEGIN:VEVENT
DTSTAMP:20260420T110655Z
UID:13-1113041@msnaz.org
DTSTART:20261006T020000Z
DTEND:20261006T030000Z
CLASS:PUBLIC
CREATED:20260419T232528
DESCRIPTION:Oración - Prayer
LAST-MODIFIED:20260419T232528
LOCATION:Sanctuary - Santuario
SUMMARY:Oración - Prayer
URL;VALUE=URI:https://www.msnaz.org/events/oracion-prayer/2026-10-05
END:VEVENT
END:VCALENDAR
