BEGIN:VCALENDAR
VERSION:2.0
PRODID:icalendar-ruby
CALSCALE:GREGORIAN
METHOD:PUBLISH
BEGIN:VEVENT
DTSTAMP:20260420T123855Z
UID:13-1113717@msnaz.org
DTSTART:20261013T020000Z
DTEND:20261013T030000Z
CLASS:PUBLIC
CREATED:20260420T042410
DESCRIPTION:Oración - Prayer
LAST-MODIFIED:20260420T042410
LOCATION:Sanctuary - Santuario
SUMMARY:Oración - Prayer
URL;VALUE=URI:https://www.msnaz.org/events/oracion-prayer/2026-10-12
END:VEVENT
END:VCALENDAR
