BEGIN:VCALENDAR
VERSION:2.0
PRODID:icalendar-ruby
CALSCALE:GREGORIAN
METHOD:PUBLISH
BEGIN:VEVENT
DTSTAMP:20260420T141609Z
UID:13-1114393@msnaz.org
DTSTART:20261020T020000Z
DTEND:20261020T030000Z
CLASS:PUBLIC
CREATED:20260420T065954
DESCRIPTION:Oración - Prayer
LAST-MODIFIED:20260420T065954
LOCATION:Sanctuary - Santuario
SUMMARY:Oración - Prayer
URL;VALUE=URI:https://www.msnaz.org/events/oracion-prayer/2026-10-19
END:VEVENT
END:VCALENDAR
