BEGIN:VCALENDAR
VERSION:2.0
PRODID:icalendar-ruby
CALSCALE:GREGORIAN
METHOD:PUBLISH
BEGIN:VEVENT
DTSTAMP:20260421T130952Z
UID:26-1117876@msnaz.org
DTSTART:20260920T200000Z
DTEND:20260920T220000Z
CLASS:PUBLIC
CREATED:20260421T042546
DESCRIPTION:
LAST-MODIFIED:20260421T042546
LOCATION:
SUMMARY:Servicio de Adoración
URL;VALUE=URI:https://www.msnaz.org/events/servicio-de-adoracion/2026-09-20
END:VEVENT
END:VCALENDAR
