BEGIN:VCALENDAR
VERSION:2.0
PRODID:icalendar-ruby
CALSCALE:GREGORIAN
METHOD:PUBLISH
BEGIN:VEVENT
DTSTAMP:20260421T152522Z
UID:26-1118553@msnaz.org
DTSTART:20260927T200000Z
DTEND:20260927T220000Z
CLASS:PUBLIC
CREATED:20260421T070123
DESCRIPTION:
LAST-MODIFIED:20260421T070123
LOCATION:
SUMMARY:Servicio de Adoración
URL;VALUE=URI:https://www.msnaz.org/events/servicio-de-adoracion/2026-09-27
END:VEVENT
END:VCALENDAR
