BEGIN:VCALENDAR
VERSION:2.0
PRODID:icalendar-ruby
CALSCALE:GREGORIAN
METHOD:PUBLISH
BEGIN:VEVENT
DTSTAMP:20260421T202249Z
UID:26-1119908@msnaz.org
DTSTART:20261018T200000Z
DTEND:20261018T220000Z
CLASS:PUBLIC
CREATED:20260421T121717
DESCRIPTION:
LAST-MODIFIED:20260421T121717
LOCATION:
SUMMARY:Servicio de Adoración
URL;VALUE=URI:https://www.msnaz.org/events/servicio-de-adoracion/2026-10-18
END:VEVENT
END:VCALENDAR
