BEGIN:VCALENDAR
VERSION:2.0
PRODID:icalendar-ruby
CALSCALE:GREGORIAN
METHOD:PUBLISH
BEGIN:VEVENT
DTSTAMP:20260421T220228Z
UID:26-1120585@msnaz.org
DTSTART:20261025T200000Z
DTEND:20261025T220000Z
CLASS:PUBLIC
CREATED:20260421T145430
DESCRIPTION:
LAST-MODIFIED:20260421T145430
LOCATION:
SUMMARY:Servicio de Adoración
URL;VALUE=URI:https://www.msnaz.org/events/servicio-de-adoracion/2026-10-25
END:VEVENT
END:VCALENDAR
